BEGIN:VCALENDAR
VERSION:2.0
PRODID:TU Chemnitz
METHOD:PUBLISH
X-WR-CALNAME:Veranstaltungen der TU Chemnitz
X-WR-TIMEZONE:Europe/Berlin
BEGIN:VEVENT
CLASS:PUBLIC
DTSTART;TZID="Europe/Berlin":20130618T173000
DTEND;TZID="Europe/Berlin":20130618T190000
LOCATION:Thüringer Weg 7\, Raum K012
SUMMARY:Chemnitzer Wirtschaftswissenschaftliches Forschungsseminar (Fakultät für Wirtschaftswissenschaften\, Professur für Finanzwissenschaft)
DESCRIPTION:Gastreferent Prof. Dr. Bernhard Eckwert von der Universität Bielefeld spricht zum Thema "Die Bedeutung von Informationen für die Streuung posteriorer Erwartungen".Interessenten sind herzlich zu dieser Veranstaltung eingeladen.\nProf. Dr. Bernhard Eckwert\, Universität Bielefeld\nkeine Anmeldung notwendig
ORGANIZER:MAILTO:anja.zenker@wirtschaft.tu-chemnitz.de
UID:15085@www.tu-chemnitz.de
CREATED:20130503T111800Z
DTSTAMP:20210802T191317Z
END:VEVENT
END:VCALENDAR
