BEGIN:VCALENDAR
VERSION:2.0
PRODID:TU Chemnitz
METHOD:PUBLISH
X-WR-CALNAME:Veranstaltungen der TU Chemnitz
X-WR-TIMEZONE:Europe/Berlin
BEGIN:VEVENT
CLASS:PUBLIC
DTSTART;TZID="Europe/Berlin":20130629T093000
DTEND;TZID="Europe/Berlin":20130629T160000
LOCATION:Reichenhainer Str. 70\, Chemnitz (Weinhold-Bau)
SUMMARY:6. Alumnitreffen der TU Chemnitz (TU Chemnitz)
DESCRIPTION:Bereich M/Ö\, marketing@tu-chemnitz.de
ORGANIZER:MAILTO:marketing@tu-chemnitz.de
UID:15083@www.tu-chemnitz.de
CREATED:20130502T164400Z
DTSTAMP:20210802T191309Z
END:VEVENT
END:VCALENDAR
