BEGIN:VCALENDAR
VERSION:2.0
PRODID:TU Chemnitz
METHOD:PUBLISH
X-WR-CALNAME:Veranstaltungen der TU Chemnitz
X-WR-TIMEZONE:Europe/Berlin
BEGIN:VEVENT
CLASS:PUBLIC
DTSTART;TZID="Europe/Berlin":20010130T193000
DTEND;TZID="Europe/Berlin":20010130T220000
LOCATION:Uni-Teil 3: Reichenhainer Str. 70\, Chemnitz (Zentr. Hörsaal- und Seminargebäude)
SUMMARY:Diavortrag: "Von der Atacamawüste zum Titicacasee" Fahrradabenteuer in den Anden
DESCRIPTION:Veranstalter: Jens-Ulrich und Thomas Groß\, Chemnitz\, Tel. 03726/712745
ORGANIZER:MAILTO:iroe@hrz.tu-chemnitz.de
UID:1506@www.tu-chemnitz.de
CREATED:20010124T084500Z
DTSTAMP:20210802T202826Z
END:VEVENT
END:VCALENDAR
