BEGIN:VCALENDAR
VERSION:2.0
PRODID:TU Chemnitz
METHOD:PUBLISH
X-WR-CALNAME:Veranstaltungen der TU Chemnitz
X-WR-TIMEZONE:Europe/Berlin
BEGIN:VEVENT
CLASS:PUBLIC
DTSTART;TZID="Europe/Berlin":20130528T170000
DTEND;TZID="Europe/Berlin":20130528T190000
LOCATION:Str. der Nationen 62\, Chemnitz (Altes Heizhaus)
SUMMARY:UNIX-Stammtisch in Sachsen (Universitätsrechenzentrum\, in Kooperation mit der GI-Regionalgruppe Chemnitz)
DESCRIPTION:Thema: Backdoors mit Bordmitteln\nChristian Perle\, secunet Security Networks AG Dresden\nY. Mußmacher\, Tel. 0371 531-38547
ORGANIZER:MAILTO:angela.tulke@hrz.tu-chemnitz.de
UID:15047@www.tu-chemnitz.de
CREATED:20130424T144900Z
DTSTAMP:20210802T191351Z
END:VEVENT
END:VCALENDAR
