BEGIN:VCALENDAR
VERSION:2.0
PRODID:TU Chemnitz
METHOD:PUBLISH
X-WR-CALNAME:Veranstaltungen der TU Chemnitz
X-WR-TIMEZONE:Europe/Berlin
BEGIN:VEVENT
CLASS:PUBLIC
DTSTART;TZID="Europe/Berlin":20130418T160000
DTEND;TZID="Europe/Berlin":20130418T180000
LOCATION:Erfenschlager Str. 73\, Chemnitz
SUMMARY:Tag der Logistik (TU Chemnitz\, Professur Fabrikplanung und Fabrikbetrieb\, Professur Fördertechnik\, Professur Produktionswirtschaft und Industriebetriebslehre)
DESCRIPTION:Die Veranstaltung richtet sich insbesondere an Bachelor-Studenten\, die noch vor der Auswahl eines Berufsfeldes in ihrem Studiengang stehen.\nAnmeldung unter: http://www.tag-der-logistik.de/veranstaltung/2350/Logistik+an+der+TU+Chemnitz+-+Studium+und+Forschung
ORGANIZER:MAILTO:romina.poller@mb.tu-chemnitz.de
UID:15019@www.tu-chemnitz.de
CREATED:20130417T131200Z
DTSTAMP:20210802T191410Z
END:VEVENT
END:VCALENDAR
