BEGIN:VCALENDAR
VERSION:2.0
PRODID:TU Chemnitz
METHOD:PUBLISH
X-WR-CALNAME:Veranstaltungen der TU Chemnitz
X-WR-TIMEZONE:Europe/Berlin
BEGIN:VEVENT
CLASS:PUBLIC
DTSTART;TZID="Europe/Berlin":20130425T190000
DTEND;TZID="Europe/Berlin":20130425T203000
LOCATION:Reichenhainer Str. 90\, Chemnitz (Zentr. Hörsaal- und Seminargebäude)
SUMMARY:Die politische Denkerin Hannah Arendt: Eichmann in Jerusalem (Philosophische Fakultät\, Professur Politische Theorie und Ideengeschichte)
DESCRIPTION:Dr. Julia Schulze Wessel (TU Dresden)\nEllen Thümmler\, ellen.thuemmler@phil.tu-chemnitz.de
ORGANIZER:MAILTO:ellen.thuemmler@phil.tu-chemnitz.de
UID:15014@www.tu-chemnitz.de
CREATED:20130415T102000Z
DTSTAMP:20210802T191423Z
END:VEVENT
END:VCALENDAR
