BEGIN:VCALENDAR
VERSION:2.0
PRODID:TU Chemnitz
METHOD:PUBLISH
X-WR-CALNAME:Veranstaltungen der TU Chemnitz
X-WR-TIMEZONE:Europe/Berlin
BEGIN:VEVENT
CLASS:PUBLIC
DTSTART;TZID="Europe/Berlin":20131117T193000
DTEND;TZID="Europe/Berlin":20131117T212000
LOCATION:Str. der Nationen 62\, Chemnitz (Altes Heizhaus)
SUMMARY:Säkularisierung: Gesellschaft ohne Gott? (ChemnitzForum Glauben und Denken)
DESCRIPTION:Dr. Thomas Lentes\, Universität Osnabrück\nUlrich Täuber\, 0371 &#8722; 8102453\, ulrich.taeuber@Campus-D.de
ORGANIZER:MAILTO:benjamin.wrobel@mb.tu-chemnitz.de
UID:15009@www.tu-chemnitz.de
CREATED:20130412T105500Z
DTSTAMP:20210802T191051Z
END:VEVENT
END:VCALENDAR
