BEGIN:VCALENDAR
VERSION:2.0
PRODID:TU Chemnitz
METHOD:PUBLISH
X-WR-CALNAME:Veranstaltungen der TU Chemnitz
X-WR-TIMEZONE:Europe/Berlin
BEGIN:VEVENT
CLASS:PUBLIC
DTSTART;VALUE=DATE:20130902
DTEND;VALUE=DATE:20130903
LOCATION:Reichenhainer Str. 70\, Chemnitz (Weinhold-Bau)
SUMMARY:9. Workshop Magnetlagertechnik Zittau-Chemnitz (Fakultät für Elektrotechnik und Informationstechnik\, Elektrische Energiewandlungssysteme und Antriebe)
DESCRIPTION:Entwicklungen sollen diskutiert und Erfahrungen auf dem Gebiet der Magnetlagertechnik ausgetauscht werden.Folgende Themengebiete stehen im Fokus:- unterschiedliche physikalische Prinzipien- Reglerstrukturen- Sensoren für Magnetlager- Stellglieder\nJohannes Rudolph\, +49 (0)371 531 38938\, johannes.rudolph@etit.tu-chemnitz.de
ORGANIZER:MAILTO:matthias.bartscht@etit.tu-chemnitz.de
UID:15007@www.tu-chemnitz.de
CREATED:20130411T134300Z
DTSTAMP:20210802T191158Z
END:VEVENT
END:VCALENDAR
