BEGIN:VCALENDAR
VERSION:2.0
PRODID:TU Chemnitz
METHOD:PUBLISH
X-WR-CALNAME:Veranstaltungen der TU Chemnitz
X-WR-TIMEZONE:Europe/Berlin
BEGIN:VEVENT
CLASS:PUBLIC
DTSTART;TZID="Europe/Berlin":20130602T193000
DTEND;TZID="Europe/Berlin":20130602T212000
LOCATION:Str. der Nationen 62\, Chemnitz (Altes Heizhaus)
SUMMARY:Sind wir das Produkt unserer Gene (ChemnitzForum Glauben und Denken)
DESCRIPTION:Prof. Dr. Peter Imming\, Martin Luther Universität Halle\nUlrich Täuber\, 0371 &#8722; 8102453\, ulrich.taeuber@Campus-D.de
ORGANIZER:MAILTO:vomart@hrz.tu-chemnitz.de
UID:15005@www.tu-chemnitz.de
CREATED:20130411T124800Z
DTSTAMP:20210802T191310Z
END:VEVENT
END:VCALENDAR
