BEGIN:VCALENDAR
VERSION:2.0
PRODID:TU Chemnitz
METHOD:PUBLISH
X-WR-CALNAME:Veranstaltungen der TU Chemnitz
X-WR-TIMEZONE:Europe/Berlin
BEGIN:VEVENT
CLASS:PUBLIC
DTSTART;TZID="Europe/Berlin":20130412T213000
DTEND;TZID="Europe/Berlin":20130413T020000
LOCATION:Club Sanitätsstelle Chemnitz (Altchemnitzer Straße 27)
SUMMARY:Metal-Benefizkonzert "Gemeinsam für Kinder" der UNICEF-Hochschulgruppe (UNICEF-Hochschulgruppe der TU Chemnitz)
DESCRIPTION:Die UNICEF-Hochschulgruppe lädt am 12.04.2013 zum Metal-Benefizkonzert "Gemeinsam für Kinder" in den Club Sanitätsstelle. Zusammen mit vier Metal-Bands wird die studentische Initiative die aktuelle UNICEF-Kampagne "Wasser wirkt" unterstützen.\nUNICEF-Hochschulgruppe\, unicef-hsg@tu-chemnitz.de
ORGANIZER:MAILTO:daniel.trommler@s2010.tu-chemnitz.de
UID:15003@www.tu-chemnitz.de
CREATED:20130410T212400Z
DTSTAMP:20210802T191416Z
END:VEVENT
END:VCALENDAR
