BEGIN:VCALENDAR
VERSION:2.0
PRODID:TU Chemnitz
METHOD:PUBLISH
X-WR-CALNAME:Veranstaltungen der TU Chemnitz
X-WR-TIMEZONE:Europe/Berlin
BEGIN:VEVENT
CLASS:PUBLIC
DTSTART;TZID="Europe/Berlin":20130602T103000
DTEND;TZID="Europe/Berlin":20130602T113000
LOCATION:Reichenhainer Str. 90\, Chemnitz (Zentr. Hörsaal- und Seminargebäude)
SUMMARY:"R2-D2\, Wall-E und Co. - Hat ein Roboter Gefühle?" (TU Chemnitz\, Kinder-Uni Chemnitz)
DESCRIPTION:Wer gern wissen möchte\, wie ein humanoider Roboter funktioniert\, der sollte sich diese Vorlesung nicht entgehen lassen. Auch "George"\, der Roboter der TU Chemnitz wird da sein.\nDr. Marius Feldmann\, Fakultät für Informatik\nBrita Stingl\, 531 13300\, kinderuni@tu-chemnitz.de
ORGANIZER:MAILTO:anja.schanze@verwaltung.tu-chemnitz.de
UID:14976@www.tu-chemnitz.de
CREATED:20130403T105900Z
DTSTAMP:20210802T191319Z
END:VEVENT
END:VCALENDAR
