BEGIN:VCALENDAR
VERSION:2.0
PRODID:TU Chemnitz
METHOD:PUBLISH
X-WR-CALNAME:Veranstaltungen der TU Chemnitz
X-WR-TIMEZONE:Europe/Berlin
BEGIN:VEVENT
CLASS:PUBLIC
DTSTART;VALUE=DATE:20130411
DTEND;VALUE=DATE:20130412
LOCATION:Das TIETZ Chemnitz; Veranstaltungssaal
SUMMARY:Der Jahrhundertzeuge. Geschichtsschreibung und Geschichtsentwürfe im Werk von Stefan Heym (Philosophische Fakultät\, Professur Neuere Deutsche und Vergleichende Literaturwissenschaft / Internationale Stefan Heym-Gesellschaft e.V.)
DESCRIPTION:2. Internationale Stefan Heym-Konferenz anlässlich des 100. Geburtstags des großen Chemnitzer Schriftstellers\nAnmeldung unter: heym-tagung2013@tu-chemnitz.de
ORGANIZER:MAILTO:bernadette.malinowski@phil.tu-chemnitz.de
UID:14972@www.tu-chemnitz.de
CREATED:20130402T182800Z
DTSTAMP:20210802T191419Z
END:VEVENT
END:VCALENDAR
