BEGIN:VCALENDAR
VERSION:2.0
PRODID:TU Chemnitz
METHOD:PUBLISH
X-WR-CALNAME:Veranstaltungen der TU Chemnitz
X-WR-TIMEZONE:Europe/Berlin
BEGIN:VEVENT
CLASS:PUBLIC
DTSTART;TZID="Europe/Berlin":20130701T090000
DTEND;TZID="Europe/Berlin":20130701T163000
LOCATION:wird noch bekannt gegeben
SUMMARY:Wissenschaftliches Schreiben - Schreibwerkstatt für Promovierende (TU Chemnitz\, Forschungsakademie/ Kompetenzschule)
DESCRIPTION:In diesem Seminar können Sie theoretische Grundlagen des wissenschaftlichen Schreibens kennen lernen und in einen intensiven Erfahrungsaustausch mit anderen Promovierenden eintreten. Dazu wechseln sich Kurzvorträge mit Übungen und Diskussionen ab.\nAlexander Egeling\nAnnett Schädlich\, 0371 - 531 37522\, forschungsakademie@tu-chemnitz.de
ORGANIZER:MAILTO:nadine.graul@s2011.tu-chemnitz.de
UID:14957@www.tu-chemnitz.de
CREATED:20130328T183600Z
DTSTAMP:20210802T191231Z
END:VEVENT
END:VCALENDAR
