BEGIN:VCALENDAR
VERSION:2.0
PRODID:TU Chemnitz
METHOD:PUBLISH
X-WR-CALNAME:Veranstaltungen der TU Chemnitz
X-WR-TIMEZONE:Europe/Berlin
BEGIN:VEVENT
CLASS:PUBLIC
DTSTART;TZID="Europe/Berlin":20130820T090000
DTEND;TZID="Europe/Berlin":20130820T170000
LOCATION:entnehmen Sie bitte der Homepage
SUMMARY:Führen internationaler Teams (Kompetenzschule)
DESCRIPTION:In diesem Workshop erhalten Sie einen Überblick\, welche kulturellen Aspekte Berücksichtigung finden sollten sowie weitere Kenntnisse hinsichtlich der Führung internationaler Teams.\nOnline-Anmeldung unter http://www.tu-chemnitz.de/fa/kompetenzschule/programm.php
ORGANIZER:MAILTO:jens.hengst@verwaltung.tu-chemnitz.de
UID:14934@www.tu-chemnitz.de
CREATED:20130328T131600Z
DTSTAMP:20210802T191219Z
END:VEVENT
END:VCALENDAR
