BEGIN:VCALENDAR
VERSION:2.0
PRODID:TU Chemnitz
METHOD:PUBLISH
X-WR-CALNAME:Veranstaltungen der TU Chemnitz
X-WR-TIMEZONE:Europe/Berlin
BEGIN:VEVENT
CLASS:PUBLIC
DTSTART;TZID="Europe/Berlin":20130726T133000
DTEND;TZID="Europe/Berlin":20130726T173000
LOCATION:entnehmen Sie bitte der Homepage
SUMMARY:Personalmanagement und Arbeitsrecht kompakt: Arbeitsrecht in der praktischen Anwendung (Kompetenzschule)
DESCRIPTION:Führungskräfte sollten über arbeitsrechtliches Wissen verfügen. Gegenstand dieses Seminars sind Themen wie Rechte und Pflichten von Arbeitnehmern bzw. Arbeitgebern\, Gestaltung von Arbeitsverträgen\, Kündigung bzw. Befristung von Arbeitsverhältnissen.\nOnline-Anmeldung unter http://www.tu-chemnitz.de/fa/kompetenzschule/programm.php
ORGANIZER:MAILTO:jens.hengst@verwaltung.tu-chemnitz.de
UID:14926@www.tu-chemnitz.de
CREATED:20130328T105300Z
DTSTAMP:20210802T191235Z
END:VEVENT
END:VCALENDAR
