BEGIN:VCALENDAR
VERSION:2.0
PRODID:TU Chemnitz
METHOD:PUBLISH
X-WR-CALNAME:Veranstaltungen der TU Chemnitz
X-WR-TIMEZONE:Europe/Berlin
BEGIN:VEVENT
CLASS:PUBLIC
DTSTART;TZID="Europe/Berlin":20010123T210000
DTEND;TZID="Europe/Berlin":20010124T030000
LOCATION:Uni-Teil 3: Vettersstr. 64/66\, Chemnitz (Studentenwohnheim)
SUMMARY:Cocktailfete (DJ Rol & Cocktailteam)
DESCRIPTION:Es ist wieder soweit. Gegen Ende des Semsters wollen wir \nnochmal köstliche Drinks für Euch mixen. In ausgelassener \nStimmung\, mit Cocktails und gratis Knabberein\, feiern wir \ndie bevorstehenden Ferien.\n\nBis dahin - DJ Rol & Cocktailteam
ORGANIZER:MAILTO:stthu@hrz.tu-chemnitz.de
UID:1492@www.tu-chemnitz.de
CREATED:20010115T100000Z
DTSTAMP:20210802T202823Z
END:VEVENT
END:VCALENDAR
