BEGIN:VCALENDAR
VERSION:2.0
PRODID:TU Chemnitz
METHOD:PUBLISH
X-WR-CALNAME:Veranstaltungen der TU Chemnitz
X-WR-TIMEZONE:Europe/Berlin
BEGIN:VEVENT
CLASS:PUBLIC
DTSTART;TZID="Europe/Berlin":20130522T100000
DTEND;TZID="Europe/Berlin":20130522T180000
LOCATION:entnehmen Sie bitte der Homepage
SUMMARY:Zeit als Ressource: Zeit planen - Zeit haben (Kompetenzschule)
DESCRIPTION:Welche Strategien existieren\, um angesichts Flexibilisierung bzw. Entgrenzung des Arbeits- und Privatlebens die Balance der verschiedenen Lebensrollen zu halten und nicht auszubrennen? Reflektieren Sie Ihren Umgang mit Zeit und decken Ihre Zeitdiebe auf.\nOnline-Anmeldung unter http://www.tu-chemnitz.de/fa/kompetenzschule/programm.php
ORGANIZER:MAILTO:jens.hengst@verwaltung.tu-chemnitz.de
UID:14917@www.tu-chemnitz.de
CREATED:20130328T100100Z
DTSTAMP:20210802T191339Z
END:VEVENT
END:VCALENDAR
