BEGIN:VCALENDAR
VERSION:2.0
PRODID:TU Chemnitz
METHOD:PUBLISH
X-WR-CALNAME:Veranstaltungen der TU Chemnitz
X-WR-TIMEZONE:Europe/Berlin
BEGIN:VEVENT
CLASS:PUBLIC
DTSTART;TZID="Europe/Berlin":20130409T210000
DTEND;TZID="Europe/Berlin":20130409T230000
LOCATION:Kino\, Reichenhainer Str. 35/37\, Keller
SUMMARY:["mittendrin" * campuskino] montags-doku: SEARCHING FOR SUGAR MAN (filmclub »mittendrin«)
DESCRIPTION:Unsere Montags-Doku mal am Dienstag. Der Sänger Sixto Rodriguez wurde in Südafrika zu einem Star\, ohne davon zu wissen... eine Geschichte\, die völlig unglaubwürdig klingt\, aber wahr ist. (Oscar 2013!!)\nfilmclub@tu-chemnitz.de
ORGANIZER:MAILTO:robert.gerstenberger@s2004.tu-chemnitz.de
UID:14902@www.tu-chemnitz.de
CREATED:20130323T194100Z
DTSTAMP:20210802T191411Z
END:VEVENT
END:VCALENDAR
