BEGIN:VCALENDAR
VERSION:2.0
PRODID:TU Chemnitz
METHOD:PUBLISH
X-WR-CALNAME:Veranstaltungen der TU Chemnitz
X-WR-TIMEZONE:Europe/Berlin
BEGIN:VEVENT
CLASS:PUBLIC
DTSTART;TZID="Europe/Berlin":20130701T090000
DTEND;TZID="Europe/Berlin":20130702T170000
LOCATION:Pegasus-Center\, Chemnitz
SUMMARY:Workshop - Gründerinnen-Camp: Selbstmanagement und Networking (Fakultät für Wirtschaftswissenschaften)
DESCRIPTION:Das Erkennen und Nutzbarmachen eigener Fähigkeiten und Ressourcen steht im Mittelpunkt dieses interaktiven zweitätigen Workshops.Das zweitätige Gründerinnen-Camp richtet sich explizit an Frauen.\nCorinna Bliedtner\ninfo@saxeed.net
ORGANIZER:MAILTO:ildiko.liebert@s2007.tu-chemnitz.de
UID:14883@www.tu-chemnitz.de
CREATED:20130313T212800Z
DTSTAMP:20210802T191239Z
END:VEVENT
END:VCALENDAR
