BEGIN:VCALENDAR
VERSION:2.0
PRODID:TU Chemnitz
METHOD:PUBLISH
X-WR-CALNAME:Veranstaltungen der TU Chemnitz
X-WR-TIMEZONE:Europe/Berlin
BEGIN:VEVENT
CLASS:PUBLIC
DTSTART;TZID="Europe/Berlin":20130502T090000
DTEND;TZID="Europe/Berlin":20130502T170000
LOCATION:Pegasus-Center\, Chemnitz
SUMMARY:Workshop - Rhetorik und Gesprächsführung für Unternehmensgründer (Fakultät für Wirtschaftswissenschaften)
DESCRIPTION:Ziel dieses eintätigen Workshops ist es\, den Teilnehmern grundlegende Kommunikationselemente vorzustellen und eine Vielzahl rhetorischer Tipps für die verbale und nonverbale Kommunikation zu geben\nJens Dechering\ninfo@saxeed.net
ORGANIZER:MAILTO:ildiko.liebert@s2007.tu-chemnitz.de
UID:14876@www.tu-chemnitz.de
CREATED:20130313T210800Z
DTSTAMP:20210802T191345Z
END:VEVENT
END:VCALENDAR
