BEGIN:VCALENDAR
VERSION:2.0
PRODID:TU Chemnitz
METHOD:PUBLISH
X-WR-CALNAME:Veranstaltungen der TU Chemnitz
X-WR-TIMEZONE:Europe/Berlin
BEGIN:VEVENT
CLASS:PUBLIC
DTSTART;VALUE=DATE:20130305
DTEND;VALUE=DATE:20130305
LOCATION:Reichenhainer Str. 55\, Chemnitz (Mensa)
SUMMARY:Tatort Chemnitz - Studidemo (Studentenrat)
DESCRIPTION:Kein Ruhiges Hinterland für Neonazis! Gegen Rassismus\, Geschichtsrevisionismus und alle menschenverachtenden Einstellungen!Aufruf: http://s7.directupload.net/file/d/3173/45iq4tlz_pdf.htm\n0371 / 531 16000 (Studentinnenrat)
ORGANIZER:MAILTO:paula.irmschler@s2010.tu-chemnitz.de
UID:14861@www.tu-chemnitz.de
CREATED:20130221T163600Z
DTSTAMP:20210802T191524Z
END:VEVENT
END:VCALENDAR
