BEGIN:VCALENDAR
VERSION:2.0
PRODID:TU Chemnitz
METHOD:PUBLISH
X-WR-CALNAME:Veranstaltungen der TU Chemnitz
X-WR-TIMEZONE:Europe/Berlin
BEGIN:VEVENT
CLASS:PUBLIC
DTSTART;TZID="Europe/Berlin":20130620T160000
DTEND;TZID="Europe/Berlin":20130620T180000
LOCATION:Str. der Nationen 62\, Chemnitz (Böttcher-Bau)
SUMMARY:GDCh-Vortrag: "Auf elegantem Weg zu multinären Metallaten und intermetalloiden Clustern" (Fakultät für Naturwissenschaften\, Institut für Chemie zusammen mit der Geselschaft Deutscher Chemiker (GDCh))
DESCRIPTION:Prof. Dr. Stefanie Dehnen\, Anorganische Chemie\, Philipps-Universität Marburg\nProf. Dr. Heinrich Lang\, Tel. 0371 / 531 21210\, Email: heinrich.lang@chemie.tu-chemnitz.de
ORGANIZER:MAILTO:natalia.rueffer@chemie.tu-chemnitz.de
UID:14857@www.tu-chemnitz.de
CREATED:20130221T140500Z
DTSTAMP:20210802T191308Z
END:VEVENT
END:VCALENDAR
