BEGIN:VCALENDAR
VERSION:2.0
PRODID:TU Chemnitz
METHOD:PUBLISH
X-WR-CALNAME:Veranstaltungen der TU Chemnitz
X-WR-TIMEZONE:Europe/Berlin
BEGIN:VEVENT
CLASS:PUBLIC
DTSTART;TZID="Europe/Berlin":20130325T090000
DTEND;TZID="Europe/Berlin":20130327T130000
LOCATION:Reichenhainer Str. 70\, Chemnitz (Rühlmann-Bau)
SUMMARY:Vorbereitungskurs Stochastik der Fakultät für Wirtschaftswissenschaften (Fakultät für Wirtschaftswissenschaften\, Qualitätspakt Lehre)
DESCRIPTION:Der Vorbereitungskurs Stochastik soll auf die Pflichtveranstaltung Stochastik (für Absolventen wirtschaftswissenschaftlicher Bachelorstudiengänge) im 2. Semester des Masterstudienganges Finance vorbereiten.\nGregor Leimcke\nNicole Saring\, nicole.saring@wirtschaft.tu-chemnitz.de
ORGANIZER:MAILTO:nicole.saring@wirtschaft.tu-chemnitz.de
UID:14850@www.tu-chemnitz.de
CREATED:20130219T120100Z
DTSTAMP:20210802T191522Z
END:VEVENT
END:VCALENDAR
