BEGIN:VCALENDAR
VERSION:2.0
PRODID:TU Chemnitz
METHOD:PUBLISH
X-WR-CALNAME:Veranstaltungen der TU Chemnitz
X-WR-TIMEZONE:Europe/Berlin
BEGIN:VEVENT
CLASS:PUBLIC
DTSTART;TZID="Europe/Berlin":20130212T210000
DTEND;TZID="Europe/Berlin":20130212T230000
LOCATION:Kino\, Reichenhainer Str. 35/37\, Keller
SUMMARY:["mittendrin" * campuskino] THE HOBBIT: AN UNEXPECTED JOURNEY (OV) (filmclub »mittendrin«)
DESCRIPTION:Warning! Tolkien-addicts around this area! Bei uns in der englischen Originalfassung - an 3 Tagen. Untertitel gibt's nur fuer Elbisch-Dialoge\, schliesslich gilt: Dragon hunting is not for pussies! Oh come ye\, oh believers in the ring!!!\nfilmclub@tu-chemnitz.de
ORGANIZER:MAILTO:robert.gerstenberger@s2004.tu-chemnitz.de
UID:14840@www.tu-chemnitz.de
CREATED:20130211T131400Z
DTSTAMP:20210802T191643Z
END:VEVENT
END:VCALENDAR
