BEGIN:VCALENDAR
VERSION:2.0
PRODID:TU Chemnitz
METHOD:PUBLISH
X-WR-CALNAME:Veranstaltungen der TU Chemnitz
X-WR-TIMEZONE:Europe/Berlin
BEGIN:VEVENT
CLASS:PUBLIC
DTSTART;TZID="Europe/Berlin":20130228T160000
DTEND;TZID="Europe/Berlin":20130228T173000
LOCATION:Reichenhainer Str. 70\, Chemnitz (Rühlmann-Bau)
SUMMARY:Chemnitzer Mathematisches Colloquium (Fakultät für Mathematik)
DESCRIPTION:Prof. Dr. Holger Kraft\, Goethe universität Frankfurt am Main\nDas Kolloquium wird von Herrn Prof. Schmidt geleitet.
ORGANIZER:MAILTO:margit.matt@mathematik.tu-chemnitz.de
UID:14831@www.tu-chemnitz.de
CREATED:20130205T090300Z
DTSTAMP:20210802T191645Z
END:VEVENT
END:VCALENDAR
