BEGIN:VCALENDAR
VERSION:2.0
PRODID:TU Chemnitz
METHOD:PUBLISH
X-WR-CALNAME:Veranstaltungen der TU Chemnitz
X-WR-TIMEZONE:Europe/Berlin
BEGIN:VEVENT
CLASS:PUBLIC
DTSTART;TZID="Europe/Berlin":20130425T120000
DTEND;TZID="Europe/Berlin":20130426T163000
LOCATION:Erfenschlager Str. 73\, Chemnitz
SUMMARY:Grundlagen der Beratung für die Hochschullehre  (TU Chemnitz)
DESCRIPTION:Workshop im Rahmen von Modul 2 des Hochschuldidaktischen Zentrums Sachsen. Ziel des Seminars ist\, Beratungsgespräche im Hochschulkontext zu professionalisieren. Es werden grundlegende Aspekte von Beratungsgesprächen bearbeitet.\nPD Dr. Frank Meyer\nreferent.lehre@verwaltung.tu-chemnitz.de\, Teilnehmergebühr 25 €
ORGANIZER:MAILTO:anja.schanze@verwaltung.tu-chemnitz.de
UID:14823@www.tu-chemnitz.de
CREATED:20130204T112200Z
DTSTAMP:20210802T191413Z
END:VEVENT
END:VCALENDAR
