BEGIN:VCALENDAR
VERSION:2.0
PRODID:TU Chemnitz
METHOD:PUBLISH
X-WR-CALNAME:Veranstaltungen der TU Chemnitz
X-WR-TIMEZONE:Europe/Berlin
BEGIN:VEVENT
CLASS:PUBLIC
DTSTART;TZID="Europe/Berlin":20130219T140000
DTEND;TZID="Europe/Berlin":20130219T160000
LOCATION:Str. der Nationen 62\, Chemnitz (Böttcher-Bau)
SUMMARY:Informatik-kolloquium (Fakultät für Informatik)
DESCRIPTION:Öffentliche Verteidigung im Rahmen des Promotionsverfahrens zum Thema: Verfahren zur inhaltsbasierten kontinuierlichenAdaption des Intelligent Cluster Indexes (ICIx)\nDipl.-Inf. Sebastian Leuoth\, dimensio-informatics GmbH\n dekanat@informatik.tu-chemnitz.de
ORGANIZER:MAILTO:ulrike.luthe@informatik.tu-chemnitz.de
UID:14821@www.tu-chemnitz.de
CREATED:20130131T101200Z
DTSTAMP:20210802T191643Z
END:VEVENT
END:VCALENDAR
