BEGIN:VCALENDAR
VERSION:2.0
PRODID:TU Chemnitz
METHOD:PUBLISH
X-WR-CALNAME:Veranstaltungen der TU Chemnitz
X-WR-TIMEZONE:Europe/Berlin
BEGIN:VEVENT
CLASS:PUBLIC
DTSTART;TZID="Europe/Berlin":20130321T150000
DTEND;TZID="Europe/Berlin":20130321T160000
LOCATION:Thürunger Weg 3\, Zwergencampus
SUMMARY:Studieren mit Kind (Projekt Familiengerechte Hochschule)
DESCRIPTION:Dr. Renate Wißuwa\, renate.wissuwa@verwaltung.tu-chemnitz.de.
ORGANIZER:MAILTO:renate.wissuwa@verwaltung.tu-chemnitz.de
UID:14819@www.tu-chemnitz.de
CREATED:20130130T104800Z
DTSTAMP:20210802T191519Z
END:VEVENT
END:VCALENDAR
