BEGIN:VCALENDAR
VERSION:2.0
PRODID:TU Chemnitz
METHOD:PUBLISH
X-WR-CALNAME:Veranstaltungen der TU Chemnitz
X-WR-TIMEZONE:Europe/Berlin
BEGIN:VEVENT
CLASS:PUBLIC
DTSTART;TZID="Europe/Berlin":20130222T100000
DTEND;TZID="Europe/Berlin":20130223T140000
LOCATION:Str. der Nationen 62\, Chemnitz (Böttcher-Bau)
SUMMARY:Eristik in der Wissenschaftskommunikation (Philosophische Fakultät\, Professur Deutsch als Fremd- und Zweitsprache)
DESCRIPTION:Vortragende: Prof. Dr. Angelika Redder\, Prof. Dr. Helmuth Feilke\, Prof. Dr. Konrad Ehlich\, Prof. Dr. Bernadette Malinowski\, PD Dr. Eske Bockelmann\, Prof. Dr. Winfried Thielmann\, Prof. Dr. Dorothee Heller\, Prof. Dr. Daniela Pirazzini (u.a.).\nArne Krause\, -32396\, arne.krause@phil.tu-chemnitz.de
ORGANIZER:MAILTO:arne.krause@phil.tu-chemnitz.de
UID:14818@www.tu-chemnitz.de
CREATED:20130130T092100Z
DTSTAMP:20210802T191644Z
END:VEVENT
END:VCALENDAR
