BEGIN:VCALENDAR
VERSION:2.0
PRODID:TU Chemnitz
METHOD:PUBLISH
X-WR-CALNAME:Veranstaltungen der TU Chemnitz
X-WR-TIMEZONE:Europe/Berlin
BEGIN:VEVENT
CLASS:PUBLIC
DTSTART;TZID="Europe/Berlin":20010515T173000
DTEND;TZID="Europe/Berlin":20010515T190000
LOCATION:Hotel Sächischer Hof\, Brühl 26\, 09111 Chemnitz
SUMMARY:53. Mikroelektronik-Stammtisch: Trends in der Mikrosystemtechnik (Fakultät für Elektrotechnik und Informationstechnik\, Schaltungs- und Systementwurf / Angewandte Mikroelektronik e.V. (AMEC))
DESCRIPTION:Teilnahme kostenlos\nProf. Dr. Thomas Geßner\, TU Chemnitz\nProf. Dr. D. Müller\, Tel.: 0371/ 531-3195\, -3192
ORGANIZER:MAILTO:pejan@hrz.tu-chemnitz.de
UID:1481@www.tu-chemnitz.de
CREATED:20010108T125300Z
DTSTAMP:20210802T202745Z
END:VEVENT
END:VCALENDAR
