BEGIN:VCALENDAR
VERSION:2.0
PRODID:TU Chemnitz
METHOD:PUBLISH
X-WR-CALNAME:Veranstaltungen der TU Chemnitz
X-WR-TIMEZONE:Europe/Berlin
BEGIN:VEVENT
CLASS:PUBLIC
DTSTART;TZID="Europe/Berlin":20010403T173000
DTEND;TZID="Europe/Berlin":20010403T190000
LOCATION:Hotel Sächischer Hof\, Brühl 26\, 09111 Chemnitz
SUMMARY:52. Mikroelektronik-Stammtisch: Faseroptische Sensorik (Fakultät für Elektrotechnik und Informationstechnik\, Schaltungs- und Systementwurf / Angewandte Mikroelektronik Chemnitz e.V. (AMEC))
DESCRIPTION:Teilnahme kostenlos\nProf. H. Döring\, HS Mittweida\nProf. Dr. D. Müller\, Tel.: 0371/531-3195\, -3192
ORGANIZER:MAILTO:pejan@hrz.tu-chemnitz.de
UID:1480@www.tu-chemnitz.de
CREATED:20010108T124600Z
DTSTAMP:20210802T202754Z
END:VEVENT
END:VCALENDAR
