BEGIN:VCALENDAR
VERSION:2.0
PRODID:TU Chemnitz
METHOD:PUBLISH
X-WR-CALNAME:Veranstaltungen der TU Chemnitz
X-WR-TIMEZONE:Europe/Berlin
BEGIN:VEVENT
CLASS:PUBLIC
DTSTART;TZID="Europe/Berlin":20130320T130000
DTEND;TZID="Europe/Berlin":20130320T160000
LOCATION:Reichenhainer Str. 70\, Chemnitz (Rühlmann-Bau)
SUMMARY:Kurs: "Einführung in die Lernplattform OPAL" (Universitätsrechenzentrum)
DESCRIPTION:Dipl.-Inf. Frank Richter\nonline über Veranstaltungsseite oder im Nutzerservice
ORGANIZER:MAILTO:rosita.pudlat@hrz.tu-chemnitz.de
UID:14793@www.tu-chemnitz.de
CREATED:20130111T104600Z
DTSTAMP:20210802T191525Z
END:VEVENT
END:VCALENDAR
