BEGIN:VCALENDAR
VERSION:2.0
PRODID:TU Chemnitz
METHOD:PUBLISH
X-WR-CALNAME:Veranstaltungen der TU Chemnitz
X-WR-TIMEZONE:Europe/Berlin
BEGIN:VEVENT
CLASS:PUBLIC
DTSTART;VALUE=DATE:20130313
DTEND;VALUE=DATE:20130315
LOCATION:Reichenhainer Str. 90\, Chemnitz (Zentr. Hörsaal- und Seminargebäude)
SUMMARY:DVS Sektion Biomechanik - „Neue Ansätze in der Bewegungsforschung“  (Professur Bewegungswissenschaft und die Juniorprofessur für Forschungsmethoden & Analyseverfahren )
DESCRIPTION:Das Symposium bietet sowohl Studierenden als auch Wissenschaftlern aus klinischen und sportwissenschaftlichen Fachgebieten eine Plattform für den wissenschaftlichen Austausch auf den Gebieten der Biomechanik und Bewegungsforschung.\nDVS2013@tu-chemnitz.de
ORGANIZER:MAILTO:christian.mitschke@hsw.tu-chemnitz.de
UID:14781@www.tu-chemnitz.de
CREATED:20130109T101700Z
DTSTAMP:20210802T191519Z
END:VEVENT
END:VCALENDAR
