BEGIN:VCALENDAR
VERSION:2.0
PRODID:TU Chemnitz
METHOD:PUBLISH
X-WR-CALNAME:Veranstaltungen der TU Chemnitz
X-WR-TIMEZONE:Europe/Berlin
BEGIN:VEVENT
CLASS:PUBLIC
DTSTART;TZID="Europe/Berlin":20130110T153000
DTEND;TZID="Europe/Berlin":20130110T170000
LOCATION:Reichenhainer Str. 90\, Chemnitz (Zentr. Hörsaal- und Seminargebäude)
SUMMARY:Metropolen vs. ländliche Räume - Abschied vom Ausgleichsprinzip in der deutschen Regionalpolitik? (Philosophische Fakultät\, Juniorprofessur Humangeographie Ostmitteleuropas / Institut für Politikwissenschaft)
DESCRIPTION:Dr. Bernhard Köppen\, Universität Landau-Koblenz\nDr. Sebastian Liebold\, 0371 531-39499\, sebastian.liebold@phil.tu-chemnitz.de
ORGANIZER:MAILTO:robert.steudtner@s2007.tu-chemnitz.de
UID:14771@www.tu-chemnitz.de
CREATED:20130107T151900Z
DTSTAMP:20210802T191827Z
END:VEVENT
END:VCALENDAR
