BEGIN:VCALENDAR
VERSION:2.0
PRODID:TU Chemnitz
METHOD:PUBLISH
X-WR-CALNAME:Veranstaltungen der TU Chemnitz
X-WR-TIMEZONE:Europe/Berlin
BEGIN:VEVENT
CLASS:PUBLIC
DTSTART;VALUE=DATE:20130305
DTEND;VALUE=DATE:20130309
LOCATION:Deutsche Messe\, Messegelände Hannover\, Halle 9\, Stand A10
SUMMARY:CeBIT (TU Chemnitz\, Stiftungsprofessur für Systemzuverlässigkeit in Elektromobilität und Energiemanagement\, Professur Medieninformatik)
DESCRIPTION:Exponate: PDU (Power Distribution Unit) Reliability Test Lab; Produktion - Ingest - Analyse - Archivierung - Recherche von Videoinhalten\nProf. Pätz (Tel.: 0371 / 531 - 32328); Prof. Eibl (Tel.: 0371 / 531 - 25780)
ORGANIZER:MAILTO:rainer.kittig@verwaltung.tu-chemnitz.de
UID:14761@www.tu-chemnitz.de
CREATED:20130103T132000Z
DTSTAMP:20210802T191520Z
END:VEVENT
END:VCALENDAR
