BEGIN:VCALENDAR
VERSION:2.0
PRODID:TU Chemnitz
METHOD:PUBLISH
X-WR-CALNAME:Veranstaltungen der TU Chemnitz
X-WR-TIMEZONE:Europe/Berlin
BEGIN:VEVENT
CLASS:PUBLIC
DTSTART;TZID="Europe/Berlin":20130114T180000
DTEND;TZID="Europe/Berlin":20130114T200000
LOCATION:Reichenhainer Str. 90\, Chemnitz (Zentr. Hörsaal- und Seminargebäude)
SUMMARY:Katalonien\, ein neuer Staat in Europa? (Philosophische Fakultät\, Professur Kultureller und Sozialer Wandel)
DESCRIPTION:Unter diesem Motto verliefen die Proteste am katalanischen Nationalfeiertag von 2012 in Barcelona mit anderthalb Millionen Demonstrierenden. Welche Ursachen gibt es für die Unabhängigkeitsbestrebungen?\nProf. Dr. Carsten Sinner\, Òscar Bernaus\, Núria Codina\, Prof. Dr. Teresa Pinheiro\nNúria Codina
ORGANIZER:MAILTO:teresa.pinheiro@phil.tu-chemnitz.de
UID:14760@www.tu-chemnitz.de
CREATED:20130103T125300Z
DTSTAMP:20210802T191830Z
END:VEVENT
END:VCALENDAR
