BEGIN:VCALENDAR
VERSION:2.0
PRODID:TU Chemnitz
METHOD:PUBLISH
X-WR-CALNAME:Veranstaltungen der TU Chemnitz
X-WR-TIMEZONE:Europe/Berlin
BEGIN:VEVENT
CLASS:PUBLIC
DTSTART;TZID="Europe/Berlin":20010530T173000
DTEND;TZID="Europe/Berlin":20010530T173000
LOCATION:Uni-Teil 1: Str. der Nationen 62\, Chemnitz (Böttcher-Bau)
SUMMARY:Vortragsreihe Medizin im Spannungsfeld zwischen Wissenschaft und Gesellschaft: "Rückenschmerz - moderne Behandlungsverfahren der Bandscheibenerkrankung" (TU Chemnitz\, Klinikum Chemnitz gGmbH)
DESCRIPTION:Chefarzt PD Doz. Dr. med. habil. Jochen Schöche\, Klinik für Neurochirurgie\, Klinikum Chemnitz gGmbH\nPressestelle\, Tel. 5 31-14 24
ORGANIZER:MAILTO:iroe@hrz.tu-chemnitz.de
UID:1475@www.tu-chemnitz.de
CREATED:20010104T120200Z
DTSTAMP:20210802T202749Z
END:VEVENT
END:VCALENDAR
