BEGIN:VCALENDAR
VERSION:2.0
PRODID:TU Chemnitz
METHOD:PUBLISH
X-WR-CALNAME:Veranstaltungen der TU Chemnitz
X-WR-TIMEZONE:Europe/Berlin
BEGIN:VEVENT
CLASS:PUBLIC
DTSTART;TZID="Europe/Berlin":20130109T134500
DTEND;TZID="Europe/Berlin":20130109T151500
LOCATION:Reichenhainer Str. 70\, Chemnitz (Weinhold-Bau)
SUMMARY:Ein Semester in Südkorea - Informationen zu Auslandssemester an der University of Incheon (Internationales Universitätszentrum)
DESCRIPTION:Für ein Auslandssemester nach Südkorea? Prof. Menke von der University of Incheon/Südkorea stellt die Universität vor und gibt Tipps zur Bewerbung und Planung. Schauen Sie vorbei!\nProf. Dr. Michael Menke (University of Incheon)\, Oliver Sachs (IUZ)\nOliver Sachs\, 0371 531 37972\, oliver.sachs@iuz.tu-chemnitz.de
ORGANIZER:MAILTO:oliver.sachs@iuz.tu-chemnitz.de
UID:14738@www.tu-chemnitz.de
CREATED:20121211T100900Z
DTSTAMP:20210802T191829Z
END:VEVENT
END:VCALENDAR
