BEGIN:VCALENDAR
VERSION:2.0
PRODID:TU Chemnitz
METHOD:PUBLISH
X-WR-CALNAME:Veranstaltungen der TU Chemnitz
X-WR-TIMEZONE:Europe/Berlin
BEGIN:VEVENT
CLASS:PUBLIC
DTSTART;TZID="Europe/Berlin":20121212T153000
DTEND;TZID="Europe/Berlin":20121212T170000
LOCATION:Reichenhainer Str. 90\, Chemnitz (Zentr. Hörsaal- und Seminargebäude)
SUMMARY:ERASMUS-Informationsveranstaltung (Philosophische Fakultät\, Professur Europäische Regierungssysteme im Vergleich)
DESCRIPTION:Ehemalige ERASMUS-Studierende werden über ihren Auslandsaufenthalt berichten und für Fragen zur Verfügung stehen. Die Veranstaltung findet in Zusammenarbeit mit dem IUZ statt. Alle Interessenten sind herzlich eingeladen!\nMarkus Lorenz\, Oliver Sachs\nmarkus.lorenz@phil.tu-chemnitz.de
ORGANIZER:MAILTO:robert.steudtner@s2007.tu-chemnitz.de
UID:14733@www.tu-chemnitz.de
CREATED:20121205T190500Z
DTSTAMP:20210802T191958Z
END:VEVENT
END:VCALENDAR
