BEGIN:VCALENDAR
VERSION:2.0
PRODID:TU Chemnitz
METHOD:PUBLISH
X-WR-CALNAME:Veranstaltungen der TU Chemnitz
X-WR-TIMEZONE:Europe/Berlin
BEGIN:VEVENT
CLASS:PUBLIC
DTSTART;TZID="Europe/Berlin":20121119T190000
DTEND;TZID="Europe/Berlin":20121119T200000
LOCATION:Club der Kulturen\, Thüringer Weg 3
SUMMARY:MTP e.V. Informationsveranstaltung  (MTP e.V.)
DESCRIPTION:Der studentische Marketingverein MTP e.V. stellt sich vor!\nchemnitz@mtp.org
ORGANIZER:MAILTO:lydia.lenk@s2011.tu-chemnitz.de
UID:14683@www.tu-chemnitz.de
CREATED:20121115T150400Z
DTSTAMP:20210802T192051Z
END:VEVENT
END:VCALENDAR
