BEGIN:VCALENDAR
VERSION:2.0
PRODID:TU Chemnitz
METHOD:PUBLISH
X-WR-CALNAME:Veranstaltungen der TU Chemnitz
X-WR-TIMEZONE:Europe/Berlin
BEGIN:VEVENT
CLASS:PUBLIC
DTSTART;TZID="Europe/Berlin":20121122T160000
DTEND;TZID="Europe/Berlin":20121122T180000
LOCATION:Erfenschlager Str. 73\, Chemnitz
SUMMARY:Und danach??? - Zukunftsorientiert studieren. (Fakultät für Maschinenbau\, Qualitätspakt Lehre)
DESCRIPTION:Was studieren? Anspruchsvollen Job finden? Aufstiegschancen? Antworten darauf gibt hier! (technische Studiengänge). Es stellen sich sieben große Firmen vor. Eingeladen sind: Schüler der Abiturklassen mit Eltern und Studenten der ersten Semester.\nDiverse Firmen\nBitte auf der Seite zur Veranstaltung einschreiben!
ORGANIZER:MAILTO:uwe.dombeck@mb.tu-chemnitz.de
UID:14682@www.tu-chemnitz.de
CREATED:20121115T124900Z
DTSTAMP:20210802T192046Z
END:VEVENT
END:VCALENDAR
