BEGIN:VCALENDAR
VERSION:2.0
PRODID:TU Chemnitz
METHOD:PUBLISH
X-WR-CALNAME:Veranstaltungen der TU Chemnitz
X-WR-TIMEZONE:Europe/Berlin
BEGIN:VEVENT
CLASS:PUBLIC
DTSTART;TZID="Europe/Berlin":20121128T190000
DTEND;TZID="Europe/Berlin":20121128T203000
LOCATION:Reichenhainer Str. 90\, Chemnitz (Zentr. Hörsaal- und Seminargebäude)
SUMMARY:Football and National Identity: the Case of Germany (Philosophische Fakultät\, Britische und Amerikanische Kultur- und Länderstudien\, Prof. Stolz)
DESCRIPTION:Sven Ismer (Soziologie\, FU Berlin) beleuchtet in seinem Vortrag (in englischer Sprache) am Beispiel der WM 2006 wie Fußball zur Konstruktion und Modifikation nationaler Identität beitragen kann. Zuhörer aller Studiengänge sind herzlich willkommen!\nSven Ismer (FU Berlin)\nProf. Stolz\, 37297\, klaus.stolz@phil.tu-chemnitz.de
ORGANIZER:MAILTO:klaus.stolz@phil.tu-chemnitz.de
UID:14680@www.tu-chemnitz.de
CREATED:20121114T101500Z
DTSTAMP:20210802T192043Z
END:VEVENT
END:VCALENDAR
