BEGIN:VCALENDAR
VERSION:2.0
PRODID:TU Chemnitz
METHOD:PUBLISH
X-WR-CALNAME:Veranstaltungen der TU Chemnitz
X-WR-TIMEZONE:Europe/Berlin
BEGIN:VEVENT
CLASS:PUBLIC
DTSTART;TZID="Europe/Berlin":20010117T200000
DTEND;TZID="Europe/Berlin":20010117T220000
LOCATION:Uni-Teil 3: Reichenhainer Str. 70\, Chemnitz (Zentr. Hörsaal- und Seminargebäude)
SUMMARY:Diareportage "Weltsichten"
DESCRIPTION:Sven Oyen\, Tel. 037324/87131
ORGANIZER:MAILTO:iroe@hrz.tu-chemnitz.de
UID:1468@www.tu-chemnitz.de
CREATED:20001220T144500Z
DTSTAMP:20210802T202821Z
END:VEVENT
END:VCALENDAR
