BEGIN:VCALENDAR
VERSION:2.0
PRODID:TU Chemnitz
METHOD:PUBLISH
X-WR-CALNAME:Veranstaltungen der TU Chemnitz
X-WR-TIMEZONE:Europe/Berlin
BEGIN:VEVENT
CLASS:PUBLIC
DTSTART;TZID="Europe/Berlin":20121117T100000
DTEND;TZID="Europe/Berlin":20121117T180000
LOCATION:Reichenhainer Str. 70\, Chemnitz (Rühlmann-Bau)
SUMMARY:17. Entwicklungspolitische Konferenz (Studentenrat\, Referat Ökologie und Nachhaltigkeit)
DESCRIPTION:Am Freitag und Samstag\, dem 16./17. November\, lädt die Entwicklungspolitische Konferenz zu einer Reise in die Vergangenheit\, Gegenwart und Zukunft der gesellschaftlichen Utopien ein. Anmeldung für den Samstag erforderlich.\nkontakt@einewelt-sachsen.de
ORGANIZER:MAILTO:erik.vollmann@s2011.tu-chemnitz.de
UID:14675@www.tu-chemnitz.de
CREATED:20121112T142300Z
DTSTAMP:20210802T192057Z
END:VEVENT
END:VCALENDAR
