BEGIN:VCALENDAR
VERSION:2.0
PRODID:TU Chemnitz
METHOD:PUBLISH
X-WR-CALNAME:Veranstaltungen der TU Chemnitz
X-WR-TIMEZONE:Europe/Berlin
BEGIN:VEVENT
CLASS:PUBLIC
DTSTART;TZID="Europe/Berlin":20121114T193000
DTEND;TZID="Europe/Berlin":20121114T210000
LOCATION:Vortragssaal der Chemnitzer Stadtbibliothek im Kulturkaufhaus DAStietz 
SUMMARY:Ringvorlesung "Mein Buch" (Philosophische Fakultät)
DESCRIPTION:Die Ringvorlesung "Mein Buch" wird am 14. November 2012 fortgesetzt. Diesmal referiert Prof. Dr. Ludwig Gramlich über das Werk "Undine" von Friedrich de la Motte Fouqué.\nProf. Dr. Ludwig Gramlich \nbernadette.malinowski@phil.tu-chemnitz.de
ORGANIZER:MAILTO:kristin.guenther@s2007.tu-chemnitz.de
UID:14671@www.tu-chemnitz.de
CREATED:20121108T141400Z
DTSTAMP:20210802T192047Z
END:VEVENT
END:VCALENDAR
