BEGIN:VCALENDAR
VERSION:2.0
PRODID:TU Chemnitz
METHOD:PUBLISH
X-WR-CALNAME:Veranstaltungen der TU Chemnitz
X-WR-TIMEZONE:Europe/Berlin
BEGIN:VEVENT
CLASS:PUBLIC
DTSTART;TZID="Europe/Berlin":20001219T210000
DTEND;TZID="Europe/Berlin":20001219T210000
LOCATION:Uni-Teil 3: Vettersstr. 52/54\, Chemnitz (Studentenwohnheim)
SUMMARY:Weihnachtsrock (windKanal e.V)
DESCRIPTION:Rock im windKanal. mit Klassikern von Queen\, Rolling Stones\, Pink Floyd\, Jimi Hendrix\, Lenny Kravitz\, Red Hot Chili Peppers und und und
ORGANIZER:MAILTO:tfo@hrz.tu-chemnitz.de
UID:1466@www.tu-chemnitz.de
CREATED:20001216T210800Z
DTSTAMP:20210802T202834Z
END:VEVENT
END:VCALENDAR
