BEGIN:VCALENDAR
VERSION:2.0
PRODID:TU Chemnitz
METHOD:PUBLISH
X-WR-CALNAME:Veranstaltungen der TU Chemnitz
X-WR-TIMEZONE:Europe/Berlin
BEGIN:VEVENT
CLASS:PUBLIC
DTSTART;TZID="Europe/Berlin":20121107T190000
DTEND;TZID="Europe/Berlin":20121107T220000
LOCATION:Reichenhainer Str. 90\, Chemnitz (Zentr. Hörsaal- und Seminargebäude)
SUMMARY:Diktatur! - Widerstand berichtet! (Studentenrat)
DESCRIPTION:WAS WAR DAMALS? WAS IST HEUTE? WO GEHEN WIR HIN?WAS BEWEGT UNS? WELCHE WEGE KÖNNTE ES GEBEN?RETROPERSPEKTIVE – DISKUSSION – PERSPEKTIVE\nOberstaatsanwalt Andreas Lorenz\n037153116000
ORGANIZER:MAILTO:kristian.onischka@s2004.tu-chemnitz.de
UID:14648@www.tu-chemnitz.de
CREATED:20121101T120500Z
DTSTAMP:20210802T192050Z
END:VEVENT
END:VCALENDAR
