BEGIN:VCALENDAR
VERSION:2.0
PRODID:TU Chemnitz
METHOD:PUBLISH
X-WR-CALNAME:Veranstaltungen der TU Chemnitz
X-WR-TIMEZONE:Europe/Berlin
BEGIN:VEVENT
CLASS:PUBLIC
DTSTART;TZID="Europe/Berlin":20121112T091500
DTEND;TZID="Europe/Berlin":20121112T104500
LOCATION:Str. der Nationen 62\, Chemnitz (Böttcher-Bau)
SUMMARY:Group 16 (Se\, Te) hypervalent compounds: synthesis\, structural diversity and reactivity  (Fakultät für Naturwissenschaften)
DESCRIPTION:Prof. Dr. Anca Silvestru\nProf. Dr. Michael Mehring\, 0371/53135128\, michael.mehring@chemie.tu-chemnitz.de
ORGANIZER:MAILTO:maik.schlesinger@chemie.tu-chemnitz.de
UID:14640@www.tu-chemnitz.de
CREATED:20121026T162800Z
DTSTAMP:20210802T192051Z
END:VEVENT
END:VCALENDAR
