BEGIN:VCALENDAR
VERSION:2.0
PRODID:TU Chemnitz
METHOD:PUBLISH
X-WR-CALNAME:Veranstaltungen der TU Chemnitz
X-WR-TIMEZONE:Europe/Berlin
BEGIN:VEVENT
CLASS:PUBLIC
DTSTART;TZID="Europe/Berlin":20010117T150000
DTEND;TZID="Europe/Berlin":20010117T163000
LOCATION:Uni-Teil 1: Str. der Nationen 62\, Chemnitz (Böttcher-Bau)
SUMMARY:47. Informatik-Kolloquium: Methoden der Visualisierung FÄLLT AUS! (Fakultät für Informatik)
DESCRIPTION:Das Kolloquium fällt leider aus.\nDoz. Dr.-Ing. P. Slavík (TU Prag)\nkolloquium@informatik.tu-chemnitz.de
ORGANIZER:MAILTO:lro@informatik.tu-chemnitz.de
UID:1463@www.tu-chemnitz.de
CREATED:20001215T101700Z
DTSTAMP:20210802T202827Z
END:VEVENT
END:VCALENDAR
