BEGIN:VCALENDAR
VERSION:2.0
PRODID:TU Chemnitz
METHOD:PUBLISH
X-WR-CALNAME:Veranstaltungen der TU Chemnitz
X-WR-TIMEZONE:Europe/Berlin
BEGIN:VEVENT
CLASS:PUBLIC
DTSTART;TZID="Europe/Berlin":20121013T093000
DTEND;TZID="Europe/Berlin":20121013T180000
LOCATION:Str. der Nationen 62\, Chemnitz (Altes Heizhaus)
SUMMARY:Geschichte studiert. Und dann? (Philosophische Fakultät\, Fachgruppe Historia Europae & Lehrstuhl für Europäische Geschichte des 19. und 20. Jahrhunderts)
DESCRIPTION:Referenten aus Wissenschaft\, Museumswesen oder Journalismus erzählen bei dieser Tagung von ihren Erfahrungen und geben Tipps zur Berufsorientierung und dem richtigen Einstieg. Für Studierende der Geschichte und anderer Geisteswissenschaften.\nConstantin Eckner\, mail: info@fachgruppe-geschichte.de
ORGANIZER:MAILTO:info@fachgruppe-geschichte.de
UID:14578@www.tu-chemnitz.de
CREATED:20121009T080500Z
DTSTAMP:20210802T192123Z
END:VEVENT
END:VCALENDAR
